BEGIN:VCALENDAR
PRODID:-//eluceo/ical//2.0/EN
VERSION:2.0
CALSCALE:GREGORIAN
BEGIN:VEVENT
UID:f9ef21a929c540f67b7e4353ba615367
DTSTAMP:20260421T194150Z
SUMMARY:2018-Arlene Solomon Visions-Women's Philanthropy Event
DESCRIPTION:Jewish Long Beach\nCalendar\nhttps://jewishlongbeach.org/calend
 ar/2018-arlene-solomon-visions-Womens-Philanthropy-event\n\nMore informati
 on to follow.
DTSTART;TZID=America/Los_Angeles:20180215T180000
DTEND;TZID=America/Los_Angeles:20180215T210000
END:VEVENT
END:VCALENDAR
