BEGIN:VCALENDAR
PRODID:-//eluceo/ical//2.0/EN
VERSION:2.0
CALSCALE:GREGORIAN
BEGIN:VEVENT
UID:588a60d0463dbb9650eb2cbe44fe13e1
DTSTAMP:20260423T083242Z
SUMMARY:2018/5778 Annual Community Campaign Leadership Kickoff
DESCRIPTION:Jewish Long Beach\nCalendar\nhttps://jewishlongbeach.org/calend
 ar/20185778-annual-community-campaign-leadership-kickoff\n\nIf you are on 
 a Jewish Federation Campaign committee\, or are a committee chair\, and/or
  a Federation Board Member or a Foundation Trustee or a Lentzner Fellow o
 r a Alpert New Leaders Forum participant you are invited to attend the 201
 8/5778 Annual Community Campaign Leadership Kickoff.\n\nDinner will be pr
 ovided.
DTSTART;TZID=America/Los_Angeles:20171017T180000
DTEND;TZID=America/Los_Angeles:20171017T200000
END:VEVENT
END:VCALENDAR
