BEGIN:VCALENDAR
PRODID:-//eluceo/ical//2.0/EN
VERSION:2.0
CALSCALE:GREGORIAN
BEGIN:VEVENT
UID:075ae2ccf156f27f5c33d6689ca58ebe
DTSTAMP:20260423T232832Z
SUMMARY:2024 Game Day "FUN"draiser
DESCRIPTION:Jewish Long Beach\nCalendar\nhttps://jewishlongbeach.org/calend
 ar/2024-game-day-fundraiser-1707787351\n\nBring your Mahj or Bridge group\
 , Rummykub friends\, Poker pals\, Scrabble buddies -- or play with and mak
 e new friends!The $54 fee includes lots of fun and games\, an all-day beve
 rage station and a lovely lunch!Please RSVP either on our website (ncjwlon
 gbeach.org) or by mailing us by March 10 your $54 check made out to NCJW\,
  your game choice\, whether you have a group to play with or need a group\
 , and a list of your table friends. Please send your mail to NCJW - GLB & 
 WOC\, attn: Judy Leff\, 3801 E...
DTSTART;TZID=America/Los_Angeles:20240321T100000
DTEND;TZID=America/Los_Angeles:20240321T150000
END:VEVENT
END:VCALENDAR
