BEGIN:VCALENDAR
PRODID:-//eluceo/ical//2.0/EN
VERSION:2.0
CALSCALE:GREGORIAN
BEGIN:VEVENT
UID:f95204c591efe9df25456bfb8bd5bf06
DTSTAMP:20260423T221553Z
SUMMARY:2nd Night Seder at TBO
DESCRIPTION:Jewish Long Beach\nCalendar\nhttps://jewishlongbeach.org/calend
 ar/2nd-night-seder-at-tbo-1742018277\n\nCelebrate the 2nd night seder with
  Temple Beth Ohr on Sun Apr 13 @ 6 pm.
DTSTART;TZID=America/Los_Angeles:20250413T180000
DTEND;TZID=America/Los_Angeles:20250413T210000
END:VEVENT
END:VCALENDAR
