BEGIN:VCALENDAR
PRODID:-//eluceo/ical//2.0/EN
VERSION:2.0
CALSCALE:GREGORIAN
BEGIN:VEVENT
UID:32ed51563e5a2e3678b7b3d2f73efb02
DTSTAMP:20260422T145449Z
SUMMARY:9th Night | An Adults-Only Chanukah Mixer
DESCRIPTION:Jewish Long Beach\nCalendar\nhttps://jewishlongbeach.org/calend
 ar/9th-night--an-adults-only-chanukah-mixer-1667948460\n\nJoin us for our 
 2nd annual 9th Night Chanukah Mixer. Celebrate Chanukah at this Adults-Onl
 y event at the Long Beach Beer Lab. Enjoy Kosher eats\, Craft Beer\, and L
 ive Music from Mike Wilson
DTSTART;TZID=America/Los_Angeles:20221215T190000
DTEND;TZID=America/Los_Angeles:20221215T210000
END:VEVENT
END:VCALENDAR
