BEGIN:VCALENDAR
PRODID:-//eluceo/ical//2.0/EN
VERSION:2.0
CALSCALE:GREGORIAN
BEGIN:VEVENT
UID:808ca787811d5a3747b8d9a88445330b
DTSTAMP:20260419T232501Z
SUMMARY:Community Yom HaShaoh
DESCRIPTION:Jewish Long Beach\nCalendar\nhttps://jewishlongbeach.org/calend
 ar/Community-yom-hashaoh-community\n\nJewish Long Beach and Alpert Jewish 
 Community Center Yom HaShoah Community Event. More information to follow.
DTSTART;TZID=America/Los_Angeles:20210411T140000
DTEND;TZID=America/Los_Angeles:20210411T160000
END:VEVENT
END:VCALENDAR
