BEGIN:VCALENDAR
PRODID:-//eluceo/ical//2.0/EN
VERSION:2.0
CALSCALE:GREGORIAN
BEGIN:VEVENT
UID:fdb67f3c6966c6c9855f161898fcbd9c
DTSTAMP:20260419T153841Z
SUMMARY:Martin Luther King\, Jr. Day
DESCRIPTION:Jewish Long Beach\nCalendar\nhttps://jewishlongbeach.org/calend
 ar/Event103\n\n&nbsp
DTSTART;TZID=America/Los_Angeles:20150119T120000
DTEND;TZID=America/Los_Angeles:20150119T133000
END:VEVENT
END:VCALENDAR
