BEGIN:VCALENDAR
PRODID:-//eluceo/ical//2.0/EN
VERSION:2.0
CALSCALE:GREGORIAN
BEGIN:VEVENT
UID:33d8e53e23aada64a9edcd64559d3305
DTSTAMP:20260422T033150Z
SUMMARY:Finance/Investment
DESCRIPTION:Jewish Long Beach\nCalendar\nhttps://jewishlongbeach.org/calend
 ar/Event107\n\nFinance/Investment
DTSTART;TZID=America/Los_Angeles:20150204T173000
DTEND;TZID=America/Los_Angeles:20150204T183000
END:VEVENT
END:VCALENDAR
