BEGIN:VCALENDAR
PRODID:-//eluceo/ical//2.0/EN
VERSION:2.0
CALSCALE:GREGORIAN
BEGIN:VEVENT
UID:64aa16ec1e9ac702a605a85394e9f1c4
DTSTAMP:20260419T172950Z
SUMMARY:Kehillah Leadership
DESCRIPTION:Jewish Long Beach\nCalendar\nhttps://jewishlongbeach.org/calend
 ar/Event114\n\nKehillah Leadership
DTSTART;TZID=America/Los_Angeles:20150219T123000
DTEND;TZID=America/Los_Angeles:20150219T140000
END:VEVENT
END:VCALENDAR
