BEGIN:VCALENDAR
PRODID:-//eluceo/ical//2.0/EN
VERSION:2.0
CALSCALE:GREGORIAN
BEGIN:VEVENT
UID:0c624c4854f99f196e296b01911fcaa7
DTSTAMP:20260419T120517Z
SUMMARY:Chronicle Publication
DESCRIPTION:Jewish Long Beach\nCalendar\nhttps://jewishlongbeach.org/calend
 ar/Event118\n\nChronicle Publication
DTSTART;TZID=America/Los_Angeles:20150227T000000
DTEND;TZID=America/Los_Angeles:20150227T235900
END:VEVENT
END:VCALENDAR
