BEGIN:VCALENDAR
PRODID:-//eluceo/ical//2.0/EN
VERSION:2.0
CALSCALE:GREGORIAN
BEGIN:VEVENT
UID:861f3cb703ffdce7da8fa7403a39110a
DTSTAMP:20260419T203951Z
SUMMARY:Chronicle Deadline
DESCRIPTION:Jewish Long Beach\nCalendar\nhttps://jewishlongbeach.org/calend
 ar/Event119\n\nChronicle Deadline
DTSTART;TZID=America/Los_Angeles:20150304T000000
DTEND;TZID=America/Los_Angeles:20150304T235900
END:VEVENT
END:VCALENDAR
