BEGIN:VCALENDAR
PRODID:-//eluceo/ical//2.0/EN
VERSION:2.0
CALSCALE:GREGORIAN
BEGIN:VEVENT
UID:916e6ecb1b8e355efc70c631830ad79d
DTSTAMP:20260419T120527Z
SUMMARY:Hebrew Academy Visionary Dinner
DESCRIPTION:Jewish Long Beach\nCalendar\nhttps://jewishlongbeach.org/calend
 ar/Event123\n\nHebrew Academy's Annual Visionary Dinner at the elegant Fou
 r Seasons Hotel. Proceeds to benefit the school's scholarship fund for des
 erving young students. For more information or reservations call 714-898-0
 051.
DTSTART;TZID=America/Los_Angeles:20150308T170000
DTEND;TZID=America/Los_Angeles:20150308T210000
END:VEVENT
END:VCALENDAR
