BEGIN:VCALENDAR
PRODID:-//eluceo/ical//2.0/EN
VERSION:2.0
CALSCALE:GREGORIAN
BEGIN:VEVENT
UID:ff179642e2895edc95f833f024f4f0b6
DTSTAMP:20260419T185547Z
SUMMARY:Alpert New Leaders Forum
DESCRIPTION:Jewish Long Beach\nCalendar\nhttps://jewishlongbeach.org/calend
 ar/Event138\n\nAlpert New Leaders Forum
DTSTART;TZID=America/Los_Angeles:20150416T180000
DTEND;TZID=America/Los_Angeles:20150416T210000
END:VEVENT
END:VCALENDAR
