BEGIN:VCALENDAR
PRODID:-//eluceo/ical//2.0/EN
VERSION:2.0
CALSCALE:GREGORIAN
BEGIN:VEVENT
UID:004ef7e53ea7b67573bd387a9af01e7c
DTSTAMP:20260420T033331Z
SUMMARY:Women's Philanthropy Planning Meeting
DESCRIPTION:Jewish Long Beach\nCalendar\nhttps://jewishlongbeach.org/calend
 ar/Event14\n\nWomen's Philanthropy Planning Meeting
DTSTART;TZID=America/Los_Angeles:20140828T183000
DTEND;TZID=America/Los_Angeles:20140828T193000
END:VEVENT
END:VCALENDAR
