BEGIN:VCALENDAR
PRODID:-//eluceo/ical//2.0/EN
VERSION:2.0
CALSCALE:GREGORIAN
BEGIN:VEVENT
UID:095b92315fdb7123b7ea14af17e92a02
DTSTAMP:20260419T172740Z
SUMMARY: Arlene Solomon VISIONS Event
DESCRIPTION:Jewish Long Beach\nCalendar\nhttps://jewishlongbeach.org/calend
 ar/Event146\n\nArlene Solomon VISIONS Event
DTSTART;TZID=America/Los_Angeles:20150430T180000
DTEND;TZID=America/Los_Angeles:20150430T210000
END:VEVENT
END:VCALENDAR
