BEGIN:VCALENDAR
PRODID:-//eluceo/ical//2.0/EN
VERSION:2.0
CALSCALE:GREGORIAN
BEGIN:VEVENT
UID:2f38c473a666d0517e607994846fe774
DTSTAMP:20260419T153811Z
SUMMARY:Foundation Executive Committee
DESCRIPTION:Jewish Long Beach\nCalendar\nhttps://jewishlongbeach.org/calend
 ar/Event150\n\nFoundation Executive Committee
DTSTART;TZID=America/Los_Angeles:20150506T190000
DTEND;TZID=America/Los_Angeles:20150506T210000
END:VEVENT
END:VCALENDAR
