BEGIN:VCALENDAR
PRODID:-//eluceo/ical//2.0/EN
VERSION:2.0
CALSCALE:GREGORIAN
BEGIN:VEVENT
UID:e775a3dba330b939bd59fbf118a56073
DTSTAMP:20260419T172711Z
SUMMARY:Shmini Atzeret
DESCRIPTION:Jewish Long Beach\nCalendar\nhttps://jewishlongbeach.org/calend
 ar/Event169\n\n&nbsp
DTSTART;TZID=America/Los_Angeles:20151005T120000
DTEND;TZID=America/Los_Angeles:20151005T133000
END:VEVENT
END:VCALENDAR
