BEGIN:VCALENDAR
PRODID:-//eluceo/ical//2.0/EN
VERSION:2.0
CALSCALE:GREGORIAN
BEGIN:VEVENT
UID:16dc55831a8b124790a2bb5745f93ed7
DTSTAMP:20260422T033230Z
SUMMARY:Chanukah
DESCRIPTION:Jewish Long Beach\nCalendar\nhttps://jewishlongbeach.org/calend
 ar/Event174\n\n&nbsp
DTSTART;TZID=America/Los_Angeles:20151207T120000
DTEND;TZID=America/Los_Angeles:20151214T133000
END:VEVENT
END:VCALENDAR
