BEGIN:VCALENDAR
PRODID:-//eluceo/ical//2.0/EN
VERSION:2.0
CALSCALE:GREGORIAN
BEGIN:VEVENT
UID:8f237b4a7d3fc6531d9e6db56913f8ed
DTSTAMP:20260420T033309Z
SUMMARY:Christmas
DESCRIPTION:Jewish Long Beach\nCalendar\nhttps://jewishlongbeach.org/calend
 ar/Event175\n\n&nbsp
DTSTART;TZID=America/Los_Angeles:20151225T120000
DTEND;TZID=America/Los_Angeles:20151225T133000
END:VEVENT
END:VCALENDAR
