BEGIN:VCALENDAR
PRODID:-//eluceo/ical//2.0/EN
VERSION:2.0
CALSCALE:GREGORIAN
BEGIN:VEVENT
UID:8997b37d10a653721c9dc1548372037e
DTSTAMP:20260419T191908Z
SUMMARY:Lion Conference
DESCRIPTION:Jewish Long Beach\nCalendar\nhttps://jewishlongbeach.org/calend
 ar/Event19\n\nLion of Judah Conference
DTSTART;TZID=America/Los_Angeles:20140907T080000
DTEND;TZID=America/Los_Angeles:20140910T210000
END:VEVENT
END:VCALENDAR
