BEGIN:VCALENDAR
PRODID:-//eluceo/ical//2.0/EN
VERSION:2.0
CALSCALE:GREGORIAN
BEGIN:VEVENT
UID:9b45bff1082f6a5add01deca5a1bd9f6
DTSTAMP:20260419T185557Z
SUMMARY:Martin Luther King\, Jr. Day
DESCRIPTION:Jewish Long Beach\nCalendar\nhttps://jewishlongbeach.org/calend
 ar/Event197\n\n&nbsp
DTSTART;TZID=America/Los_Angeles:20170116T120000
DTEND;TZID=America/Los_Angeles:20170116T133000
END:VEVENT
END:VCALENDAR
