BEGIN:VCALENDAR
PRODID:-//eluceo/ical//2.0/EN
VERSION:2.0
CALSCALE:GREGORIAN
BEGIN:VEVENT
UID:064dab092cc788ac80851296bc87c728
DTSTAMP:20260420T033259Z
SUMMARY:Shavuot
DESCRIPTION:Jewish Long Beach\nCalendar\nhttps://jewishlongbeach.org/calend
 ar/Event202\n\n&nbsp
DTSTART;TZID=America/Los_Angeles:20170531T120000
DTEND;TZID=America/Los_Angeles:20170601T133000
END:VEVENT
END:VCALENDAR
