BEGIN:VCALENDAR
PRODID:-//eluceo/ical//2.0/EN
VERSION:2.0
CALSCALE:GREGORIAN
BEGIN:VEVENT
UID:bd7e7ec700e03fa351b07e236e469c72
DTSTAMP:20260419T153901Z
SUMMARY:Campaign Chairs
DESCRIPTION:Jewish Long Beach\nCalendar\nhttps://jewishlongbeach.org/calend
 ar/Event25\n\nCampaign Chairs
DTSTART;TZID=America/Los_Angeles:20140912T130000
DTEND;TZID=America/Los_Angeles:20140912T140000
END:VEVENT
END:VCALENDAR
