BEGIN:VCALENDAR
PRODID:-//eluceo/ical//2.0/EN
VERSION:2.0
CALSCALE:GREGORIAN
BEGIN:VEVENT
UID:02390e2eb283c5e1037902cbbde81ed7
DTSTAMP:20260419T153831Z
SUMMARY:Legacy of Leadership Chairs Meeting
DESCRIPTION:Jewish Long Beach\nCalendar\nhttps://jewishlongbeach.org/calend
 ar/Event27\n\nLegacy of Leadership Chairs Meeting
DTSTART;TZID=America/Los_Angeles:20140915T173000
DTEND;TZID=America/Los_Angeles:20140915T183000
END:VEVENT
END:VCALENDAR
