BEGIN:VCALENDAR
PRODID:-//eluceo/ical//2.0/EN
VERSION:2.0
CALSCALE:GREGORIAN
BEGIN:VEVENT
UID:717e51ccfcacfd43900bfe857e2f656f
DTSTAMP:20260419T153748Z
SUMMARY:Legacy of Leadership Sponsor Reception
DESCRIPTION:Jewish Long Beach\nCalendar\nhttps://jewishlongbeach.org/calend
 ar/Event34\n\nLegacy of Leadership Sponsor Reception
DTSTART;TZID=America/Los_Angeles:20140922T180000
DTEND;TZID=America/Los_Angeles:20140922T200000
END:VEVENT
END:VCALENDAR
