BEGIN:VCALENDAR
PRODID:-//eluceo/ical//2.0/EN
VERSION:2.0
CALSCALE:GREGORIAN
BEGIN:VEVENT
UID:d70648c92997709733f6fb81a9f0b953
DTSTAMP:20260419T153852Z
SUMMARY:Shemini Atzeret Federation Closed
DESCRIPTION:Jewish Long Beach\nCalendar\nhttps://jewishlongbeach.org/calend
 ar/Event56\n\nShemini Atzeret Federation Closed
DTSTART;TZID=America/Los_Angeles:20141016T000000
DTEND;TZID=America/Los_Angeles:20141016T235900
END:VEVENT
END:VCALENDAR
