BEGIN:VCALENDAR
PRODID:-//eluceo/ical//2.0/EN
VERSION:2.0
CALSCALE:GREGORIAN
BEGIN:VEVENT
UID:16c542e6b61545f4ddde099190b5642f
DTSTAMP:20260419T153931Z
SUMMARY:Foundation Executive Committee
DESCRIPTION:Jewish Long Beach\nCalendar\nhttps://jewishlongbeach.org/calend
 ar/Event70\n\nFoundation Executive Committee
DTSTART;TZID=America/Los_Angeles:20141105T190000
DTEND;TZID=America/Los_Angeles:20141105T210000
END:VEVENT
END:VCALENDAR
