BEGIN:VCALENDAR
PRODID:-//eluceo/ical//2.0/EN
VERSION:2.0
CALSCALE:GREGORIAN
BEGIN:VEVENT
UID:d58a31c565be3976526a11b3c8294280
DTSTAMP:20260419T153913Z
SUMMARY:Kehillah Leadership
DESCRIPTION:Jewish Long Beach\nCalendar\nhttps://jewishlongbeach.org/calend
 ar/Event78\n\nKehillah Leadership
DTSTART;TZID=America/Los_Angeles:20141120T123000
DTEND;TZID=America/Los_Angeles:20141120T140000
END:VEVENT
END:VCALENDAR
