BEGIN:VCALENDAR
PRODID:-//eluceo/ical//2.0/EN
VERSION:2.0
CALSCALE:GREGORIAN
BEGIN:VEVENT
UID:9f7a48b973eea3721cc8942d5b4e20f1
DTSTAMP:20260419T153756Z
SUMMARY:AJCC Executive Committee Meeting
DESCRIPTION:Jewish Long Beach\nCalendar\nhttps://jewishlongbeach.org/calend
 ar/Event8\n\n&nbsp
DTSTART;TZID=America/Los_Angeles:20140814T190000
DTEND;TZID=America/Los_Angeles:20140814T210000
END:VEVENT
END:VCALENDAR
