BEGIN:VCALENDAR
PRODID:-//eluceo/ical//2.0/EN
VERSION:2.0
CALSCALE:GREGORIAN
BEGIN:VEVENT
UID:274b29c22113338bf6c75f876f2d03ba
DTSTAMP:20260422T033240Z
SUMMARY:Finance/Investment
DESCRIPTION:Jewish Long Beach\nCalendar\nhttps://jewishlongbeach.org/calend
 ar/Event84\n\nFinance/Investment
DTSTART;TZID=America/Los_Angeles:20141203T173000
DTEND;TZID=America/Los_Angeles:20141203T183000
END:VEVENT
END:VCALENDAR
