BEGIN:VCALENDAR
PRODID:-//eluceo/ical//2.0/EN
VERSION:2.0
CALSCALE:GREGORIAN
BEGIN:VEVENT
UID:9d3da656325a05854e6ce6121da1803f
DTSTAMP:20260422T065959Z
SUMMARY:JFCS Board Meeting
DESCRIPTION:Jewish Long Beach\nCalendar\nhttps://jewishlongbeach.org/calend
 ar/Event89\n\n&nbsp
DTSTART;TZID=America/Los_Angeles:20141211T190000
DTEND;TZID=America/Los_Angeles:20141211T213000
END:VEVENT
END:VCALENDAR
