BEGIN:VCALENDAR
PRODID:-//eluceo/ical//2.0/EN
VERSION:2.0
CALSCALE:GREGORIAN
BEGIN:VEVENT
UID:62d20544aa15a5f32c729d2edc79b874
DTSTAMP:20260419T153941Z
SUMMARY:Federation Super Sunday Phon-a-thon
DESCRIPTION:Jewish Long Beach\nCalendar\nhttps://jewishlongbeach.org/calend
 ar/Event90\n\nFederation Super Sunday Phon-a-thon
DTSTART;TZID=America/Los_Angeles:20141214T090000
DTEND;TZID=America/Los_Angeles:20141214T150000
END:VEVENT
END:VCALENDAR
