BEGIN:VCALENDAR
PRODID:-//eluceo/ical//2.0/EN
VERSION:2.0
CALSCALE:GREGORIAN
BEGIN:VEVENT
UID:e07a6c2f96054b11377b2979cd51fef3
DTSTAMP:20260419T153951Z
SUMMARY:Federation Closed
DESCRIPTION:Jewish Long Beach\nCalendar\nhttps://jewishlongbeach.org/calend
 ar/Event93\n\nFederation Closed
DTSTART;TZID=America/Los_Angeles:20141225T000000
DTEND;TZID=America/Los_Angeles:20141225T235900
END:VEVENT
END:VCALENDAR
