BEGIN:VCALENDAR
PRODID:-//eluceo/ical//2.0/EN
VERSION:2.0
CALSCALE:GREGORIAN
BEGIN:VEVENT
UID:9fed5b2a7b3976b4bf88b1c4af76bc73
DTSTAMP:20260424T144312Z
SUMMARY:Summer Celebration Weinberg Federation Campus Event
DESCRIPTION:Jewish Long Beach\nCalendar\nhttps://jewishlongbeach.org/calend
 ar/Summer-Celebration-Weinberg-Federation-campus-event\n\nSummer Celebrati
 on\, an evening of cocktails\, jazz\, & jubilation. Please join the past p
 residents of the Jewish Federation & Jewish Community Foundation as we hon
 or Deborah Goldfarb\, retiring CEO\, for her many years of service to our 
 community. Sponsorship Opportunities available. Gourmet Food stations & de
 lectable desserts by L'Chaim Kosher Catering. Evenening Resort Attire.
DTSTART;TZID=America/Los_Angeles:20190623T170000
DTEND;TZID=America/Los_Angeles:20190623T210000
END:VEVENT
END:VCALENDAR
