BEGIN:VCALENDAR
PRODID:-//eluceo/ical//2.0/EN
VERSION:2.0
CALSCALE:GREGORIAN
BEGIN:VEVENT
UID:22eba56f8bfafd3ca4fcaa4878c85720
DTSTAMP:20260420T073108Z
SUMMARY:Temple Beth Shalom L'Dough V'Dough Challah Bake with Yetta Kane
DESCRIPTION:Jewish Long Beach\nCalendar\nhttps://jewishlongbeach.org/calend
 ar/TBSchallahbake\n\nChallah bake
DTSTART;TZID=America/Los_Angeles:20250504T120000
DTEND;TZID=America/Los_Angeles:20250504T150000
END:VEVENT
END:VCALENDAR
