BEGIN:VCALENDAR
PRODID:-//eluceo/ical//2.0/EN
VERSION:2.0
CALSCALE:GREGORIAN
BEGIN:VEVENT
UID:7561354ded1d1679df9948f57a1e5f2c
DTSTAMP:20260422T073240Z
SUMMARY:Abortion After-Care Comfort Kit Assembly for Planned Parenthood
DESCRIPTION:Jewish Long Beach\nCalendar\nhttps://jewishlongbeach.org/calend
 ar/abortion-after-care-comfort-kit-assembly-for-planned-parenthood-1675562
 972\n\nYou're invited!\n\nCome at 6 pm to the Alpert JCC and help assemble
  ‘Comfort Kits’ for Planned Parenthood to give to those traveling he
 re from out-of-state for a procedure. We’re the 1st to do this locally!\
 n\nCome at 7 pm and hear Kristin Langlois\, Donor Relations Coordinator f
 or Planned Parenthood of Orange and San Bernardino Counties\, give us a b
 oots-on-the-ground update on what’s happening in our area\, and how we c
 an meet those needs!\n\nWrite thank you notes to the nurses and...
DTSTART;TZID=America/Los_Angeles:20230228T180000
DTEND;TZID=America/Los_Angeles:20230228T200000
END:VEVENT
END:VCALENDAR
