BEGIN:VCALENDAR
PRODID:-//eluceo/ical//2.0/EN
VERSION:2.0
CALSCALE:GREGORIAN
BEGIN:VEVENT
UID:2470e8c87f68c6a5e8795efcb0a535e1
DTSTAMP:20260425T123817Z
SUMMARY:Above & Beyond 2023
DESCRIPTION:Jewish Long Beach\nCalendar\nhttps://jewishlongbeach.org/calend
 ar/above-beyond-2023\n\nJoin us on a private harbor tour of the Port of Lo
 ng Beach\, featuring a guided tour\, local community experts\, Kosher dinn
 er and drink\, and support for a great cause! Featuring outstanding men fr
 om our local Jewish community agencies and congregations.
DTSTART;TZID=America/Los_Angeles:20230824T183000
DTEND;TZID=America/Los_Angeles:20230824T210000
END:VEVENT
END:VCALENDAR
