BEGIN:VCALENDAR
PRODID:-//eluceo/ical//2.0/EN
VERSION:2.0
CALSCALE:GREGORIAN
BEGIN:VEVENT
UID:0decb622b3fa622a94305f20efcf9d44
DTSTAMP:20260422T074539Z
SUMMARY:AJCC Women's Seder
DESCRIPTION:Jewish Long Beach\nCalendar\nhttps://jewishlongbeach.org/calend
 ar/ajcc-womens-seder\n\nAnnual AJCC Women's Seder. Details to come at www.
 alpertjcc.org.
DTSTART;TZID=America/Los_Angeles:20160418T170000
DTEND;TZID=America/Los_Angeles:20160418T220000
END:VEVENT
END:VCALENDAR
