BEGIN:VCALENDAR
PRODID:-//eluceo/ical//2.0/EN
VERSION:2.0
CALSCALE:GREGORIAN
BEGIN:VEVENT
UID:c957e7f77689f7b3262c60508ba5a64f
DTSTAMP:20260422T022953Z
SUMMARY:AJCC/Federation Spain & Israel Trip
DESCRIPTION:Jewish Long Beach\nCalendar\nhttps://jewishlongbeach.org/calend
 ar/ajccfederation-spain-israel-trip\n\nFor more information on the Spain &
  Israel trip\, please go to www.alpertjcc.org.
DTSTART;TZID=America/Los_Angeles:20151021T000000
DTEND;TZID=America/Los_Angeles:20151104T230000
END:VEVENT
END:VCALENDAR
