BEGIN:VCALENDAR
PRODID:-//eluceo/ical//2.0/EN
VERSION:2.0
CALSCALE:GREGORIAN
BEGIN:VEVENT
UID:07979f0820fca1d345c13b1bde204c2a
DTSTAMP:20260423T012218Z
SUMMARY:Alpert Classic Film Society: Bicycle Thieves
DESCRIPTION:Jewish Long Beach\nCalendar\nhttps://jewishlongbeach.org/calend
 ar/alpert-classic-film-society-bicycle-thieves\n\nWednesday | January 14 |
  7 PM | Virtual\n\nDiscussing: Bicycle Thieves (1948)\n\nIn post-war Ital
 y\, a working-class man's bicycle is stolen\, endangering his efforts to f
 ind work. He and his son set out to find it. (IMDB)\n\n \n\nWhere to Watc
 h\n\nHBO Max (with subscription)\n\nHulu (with subscription)\n\nAmazon Pri
 me (with subscription)\n\nRoku Channel (with subscription)\n\nApple TV (fe
 es)\n\n \n\nThis club is a way for those who love movies to watch some of
  the classics\, and then get tog...
DTSTART;TZID=America/Los_Angeles:20260114T190000
DTEND;TZID=America/Los_Angeles:20260114T200000
END:VEVENT
END:VCALENDAR
