BEGIN:VCALENDAR
PRODID:-//eluceo/ical//2.0/EN
VERSION:2.0
CALSCALE:GREGORIAN
BEGIN:VEVENT
UID:d8555483ebcc4111c694016b29596772
DTSTAMP:20260422T124928Z
SUMMARY:Alpert Classic Film Society: Children of Paradise
DESCRIPTION:Jewish Long Beach\nCalendar\nhttps://jewishlongbeach.org/calend
 ar/alpert-classic-film-society-children-of-paradise\n\nWednesday | Decembe
 r 10 | 7 PM | Virtual\n\nDiscussing: Children of Paradise (1945)\n\nThe th
 eatrical life of a beautiful courtesan in 1830s Paris and the four men who
  love her. (IMDB)\n\n \n\nWhere to Watch\n\nAmazon Prime (fees)\n\nApple 
 TV (fees)\n\nFandango at Home (fees)\n\n \n\nThis club is a way for those
  who love movies to watch some of the classics\, and then get together and
  learn more about them. The idea is that whether you’ve seen the films b
 efore or not\, you’ll get new insi...
DTSTART;TZID=America/Los_Angeles:20251210T190000
DTEND;TZID=America/Los_Angeles:20251210T200000
END:VEVENT
END:VCALENDAR
