BEGIN:VCALENDAR
PRODID:-//eluceo/ical//2.0/EN
VERSION:2.0
CALSCALE:GREGORIAN
BEGIN:VEVENT
UID:1451ae1de0ced4a17011121e11297adf
DTSTAMP:20260424T075641Z
SUMMARY:Alpert Classic Film Society: Chinatown
DESCRIPTION:Jewish Long Beach\nCalendar\nhttps://jewishlongbeach.org/calend
 ar/alpert-classic-film-society-chinatown\n\nWednesday | February 11 New Da
 te: February 18 | 7 PM | Virtual\n\nChinatown (1974)\n\nA private detectiv
 e hired to expose an adulterer in 1930s Los Angeles finds himself caught u
 p in a web of deceit\, corruption\, and murder. (IMDB)\n\n \n\nWhere to W
 atch\n\nParamount (with subscription)\n\nHulu (with subscription)\n\nAmazo
 n Prime (with subscription)\n\nRoku Channel (with subscription)\n\nApple T
 V (fees)\n\n \n\nThis club is a way for those who love movies to watch so
 me of the classics\, and t...
DTSTART;TZID=America/Los_Angeles:20260218T190000
DTEND;TZID=America/Los_Angeles:20260218T210000
END:VEVENT
END:VCALENDAR
