BEGIN:VCALENDAR
PRODID:-//eluceo/ical//2.0/EN
VERSION:2.0
CALSCALE:GREGORIAN
BEGIN:VEVENT
UID:9284910e62ec9011a9d1648ded62730d
DTSTAMP:20260424T174819Z
SUMMARY:Alpert Classic Film Society: In the Heat of the Night
DESCRIPTION:Jewish Long Beach\nCalendar\nhttps://jewishlongbeach.org/calend
 ar/alpert-classic-film-society-in-the-heat-of-the-night\n\nWednesday | Nov
 ember 19 | 7 PM | Virtual\n\nDiscussing: In the Heat of the Night (1967)\
 n\nA black Philadelphia police detective is mistakenly suspected of a loca
 l murder while passing through a racially hostile Mississippi town\, and a
 fter being cleared is reluctantly asked by the police chief to investigate
  the case. (IMDB)\n\n \n\nWhere to Watch\n\nTubi (Free)\n\nPluto TV (free
 )\n\nYoutube TV (subscription)\n\nAmazon Prime (fees)\n\nApple TV (fees)\n
 \nThis club is a way for those who love...
DTSTART;TZID=America/Los_Angeles:20251119T190000
DTEND;TZID=America/Los_Angeles:20251119T200000
END:VEVENT
END:VCALENDAR
