BEGIN:VCALENDAR
PRODID:-//eluceo/ical//2.0/EN
VERSION:2.0
CALSCALE:GREGORIAN
BEGIN:VEVENT
UID:9237dc16313f98ad24e355c1589fdfdc
DTSTAMP:20260421T102219Z
SUMMARY:Alpert Classic Film Society: The Battle of Algiers
DESCRIPTION:Jewish Long Beach\nCalendar\nhttps://jewishlongbeach.org/calend
 ar/alpert-classic-film-society-the-battle-of-algiers\n\nWednesday | March 
 11 | 7 PM | Virtual\n\nDiscussing: The Battle of Algiers (1966)\n\nIn the 
 1950s\, fear and violence escalate as the people of Algiers fight for inde
 pendence from the French government. (IMDB)\n\n \n\nWhere to Watch\n\nHBO
  Max (with subscription)\n\nHulu (with subscription)\n\nAmazon Prime (with
  subscription)\n\nRoku Channel (with subscription)\n\nApple TV (fees)\n\n
  \n\nThis club is a way for those who love movies to watch some of the cl
 assics\, and then get together and lea...
DTSTART;TZID=America/Los_Angeles:20260311T190000
DTEND;TZID=America/Los_Angeles:20260311T200000
END:VEVENT
END:VCALENDAR
