BEGIN:VCALENDAR
PRODID:-//eluceo/ical//2.0/EN
VERSION:2.0
CALSCALE:GREGORIAN
BEGIN:VEVENT
UID:325ad30559721d154f7a78a1436d0fd8
DTSTAMP:20260421T194240Z
SUMMARY:Alpert Classic Film Society: The Seven Samurai
DESCRIPTION:Jewish Long Beach\nCalendar\nhttps://jewishlongbeach.org/calend
 ar/alpert-classic-film-society-the-seven-samurai\n\nWednesday | April 8 | 
 7 PM | Virtual\n\nDiscussing: The Seven Samurai (1954)\n\nFarmers from a v
 illage exploited by bandits hire a veteran samurai for protection\, and he
  gathers six other samurai to join him. (IMDB)\n\n \n\nWhere to Watch\n\n
 HBO Max (with subscription)\n\nAmazon Prime (with subscription)\n\nYouTube
  (with subscription)\n\nApple TV (fees)\n\n \n\nThis club is a way for th
 ose who love movies to watch some of the classics\, and then get together 
 and learn more about them. The id...
DTSTART;TZID=America/Los_Angeles:20260408T190000
DTEND;TZID=America/Los_Angeles:20260408T200000
END:VEVENT
END:VCALENDAR
