BEGIN:VCALENDAR
PRODID:-//eluceo/ical//2.0/EN
VERSION:2.0
CALSCALE:GREGORIAN
BEGIN:VEVENT
UID:35945f7a9de437e475acecb31e0e083f
DTSTAMP:20260421T181600Z
SUMMARY:Alpert JCC Preschool Reunion
DESCRIPTION:Jewish Long Beach\nCalendar\nhttps://jewishlongbeach.org/calend
 ar/alpert-jcc-preschool-reunion\n\nJoin our preschool families from years 
 past to celebrate our wonderful time together at the Alpert JCC ECE. Swimm
 ing\, food\, face painting\, bounce house. FUN!
DTSTART;TZID=America/Los_Angeles:20170909T170000
DTEND;TZID=America/Los_Angeles:20170909T220000
END:VEVENT
END:VCALENDAR
