BEGIN:VCALENDAR
PRODID:-//eluceo/ical//2.0/EN
VERSION:2.0
CALSCALE:GREGORIAN
BEGIN:VEVENT
UID:7ec79f1d08943c38984b4bfd1f16fb79
DTSTAMP:20260423T130717Z
SUMMARY:Alpert New Leaders Forum
DESCRIPTION:Jewish Long Beach\nCalendar\nhttps://jewishlongbeach.org/calend
 ar/alpert-new-leaders-forum\n\nAlpert New Leaders Forum Meeting
DTSTART;TZID=America/Los_Angeles:20141113T180000
DTEND;TZID=America/Los_Angeles:20141113T200000
END:VEVENT
END:VCALENDAR
