BEGIN:VCALENDAR
PRODID:-//eluceo/ical//2.0/EN
VERSION:2.0
CALSCALE:GREGORIAN
BEGIN:VEVENT
UID:d407e98a95266057d32c7118c5fa63e9
DTSTAMP:20260420T234129Z
SUMMARY:Alpert New Leaders Forum
DESCRIPTION:Jewish Long Beach\nCalendar\nhttps://jewishlongbeach.org/calend
 ar/alpert-new-leaders-forum-25\n\nAlpert New Leaders Forum
DTSTART;TZID=America/Los_Angeles:20190307T180000
DTEND;TZID=America/Los_Angeles:20190307T200000
END:VEVENT
END:VCALENDAR
