BEGIN:VCALENDAR
PRODID:-//eluceo/ical//2.0/EN
VERSION:2.0
CALSCALE:GREGORIAN
BEGIN:VEVENT
UID:cdcb02ce18303d6689903b4595fcdc4d
DTSTAMP:20260423T194536Z
SUMMARY:Alpert New Leaders Forum
DESCRIPTION:Jewish Long Beach\nCalendar\nhttps://jewishlongbeach.org/calend
 ar/alpert-new-leaders-forum-28\n\nAlpert New Leaders Forum
DTSTART;TZID=America/Los_Angeles:20190606T180000
DTEND;TZID=America/Los_Angeles:20190606T200000
END:VEVENT
END:VCALENDAR
