BEGIN:VCALENDAR
PRODID:-//eluceo/ical//2.0/EN
VERSION:2.0
CALSCALE:GREGORIAN
BEGIN:VEVENT
UID:976598dd20e46815f48eee960ae92243
DTSTAMP:20260422T122103Z
SUMMARY:Alpert New Leaders Forum
DESCRIPTION:Jewish Long Beach\nCalendar\nhttps://jewishlongbeach.org/calend
 ar/alpert-new-leaders-forum-five\n\nAlpert New Leaders Forum
DTSTART;TZID=America/Los_Angeles:20180308T180000
DTEND;TZID=America/Los_Angeles:20180308T200000
END:VEVENT
END:VCALENDAR
